BEGIN:VCALENDAR
VERSION:2.0
PRODID:SchoolNow
CALSCALE:GREGORIAN
BEGIN:VEVENT
UID:bcf5e0ec-28fb-11eb-a8b3-1295029bab25
DTSTAMP:20210221T181746Z
SUMMARY:Management Committee - Apr. 2021
URL;VALUE=URI:https://www.lakestcharles.org/calendar/2498607/management-com
 mittee-apr-2021
DTSTART:20210415T170000Z
DTEND:20210415T180000Z
END:VEVENT
END:VCALENDAR
