BEGIN:VCALENDAR
VERSION:2.0
PRODID:SchoolNow
CALSCALE:GREGORIAN
BEGIN:VEVENT
UID:b611dd76-28fb-11eb-bba0-1295029bab25
DTSTAMP:20210221T181546Z
SUMMARY:Management Committee - Mar. 2021
URL;VALUE=URI:https://www.lakestcharles.org/calendar/2498606/management-com
 mittee-mar-2021
DTSTART:20210318T170000Z
DTEND:20210318T180000Z
END:VEVENT
END:VCALENDAR
