BEGIN:VCALENDAR
VERSION:2.0
PRODID:SchoolNow
CALSCALE:GREGORIAN
BEGIN:VEVENT
UID:ae7d016c-28fb-11eb-bc8f-1295029bab25
DTSTAMP:20210221T183639Z
SUMMARY:Management Committee - Feb. 2021
URL;VALUE=URI:https://www.lakestcharles.org/calendar/2498605/management-com
 mittee-feb-2021
DTSTART:20210218T180000Z
DTEND:20210218T190000Z
END:VEVENT
END:VCALENDAR
