BEGIN:VCALENDAR
VERSION:2.0
PRODID:SchoolNow
CALSCALE:GREGORIAN
BEGIN:VEVENT
UID:a1f560ec-28fb-11eb-b942-1295029bab25
DTSTAMP:20210221T183929Z
SUMMARY:Management Committee - Jan. 2021
URL;VALUE=URI:https://www.lakestcharles.org/calendar/2498604/management-com
 mittee-jan-2021
DTSTART:20210121T180000Z
DTEND:20210121T190000Z
END:VEVENT
END:VCALENDAR
