BEGIN:VCALENDAR
VERSION:2.0
PRODID:SchoolNow
CALSCALE:GREGORIAN
BEGIN:VEVENT
UID:84d5f094-28fb-11eb-ba7d-1295029bab25
DTSTAMP:20210221T184422Z
SUMMARY:Management Committee - Nov. 2020
URL;VALUE=URI:https://www.lakestcharles.org/calendar/2498602/management-com
 mittee-nov-2020
DTSTART:20201119T180000Z
DTEND:20201119T190000Z
END:VEVENT
END:VCALENDAR
