BEGIN:VCALENDAR
VERSION:2.0
PRODID:SchoolNow
CALSCALE:GREGORIAN
BEGIN:VEVENT
UID:fe8217de-28fa-11eb-ba54-12ca6f7626fd
DTSTAMP:20210221T183349Z
SUMMARY:Treasurer's Review Mtg - Sept. 2021
URL;VALUE=URI:https://www.lakestcharles.org/calendar/2498601/treasurers-rev
 iew-mtg-sept-2021
DTSTART:20210915T180000Z
DTEND:20210915T190000Z
END:VEVENT
END:VCALENDAR
