BEGIN:VCALENDAR
VERSION:2.0
PRODID:SchoolNow
CALSCALE:GREGORIAN
BEGIN:VEVENT
UID:f4ad4c10-28fa-11eb-a5b0-12ca6f7626fd
DTSTAMP:20210221T183153Z
SUMMARY:Treasurer's Review Mtg - Aug. 2021
URL;VALUE=URI:https://www.lakestcharles.org/calendar/2498600/treasurers-rev
 iew-mtg-aug-2021
DTSTART:20210818T180000Z
DTEND:20210818T190000Z
END:VEVENT
END:VCALENDAR
