BEGIN:VCALENDAR
VERSION:2.0
PRODID:SchoolNow
CALSCALE:GREGORIAN
BEGIN:VEVENT
UID:ec67c6a2-28fa-11eb-b78b-12ca6f7626fd
DTSTAMP:20210221T182956Z
SUMMARY:Treasurer's Review Mtg - Jul. 2021
URL;VALUE=URI:https://www.lakestcharles.org/calendar/2498599/treasurers-rev
 iew-mtg-jul-2021
DTSTART:20210721T180000Z
DTEND:20210721T190000Z
END:VEVENT
END:VCALENDAR
