BEGIN:VCALENDAR
VERSION:2.0
PRODID:SchoolNow
CALSCALE:GREGORIAN
BEGIN:VEVENT
UID:e4e6f1f0-28fa-11eb-ad5c-12ca6f7626fd
DTSTAMP:20210221T182642Z
SUMMARY:Treasurer's Review Mtg - Jun. 2021
URL;VALUE=URI:https://www.lakestcharles.org/calendar/2498598/treasurers-rev
 iew-mtg-jun-2021
DTSTART:20210616T180000Z
DTEND:20210616T190000Z
END:VEVENT
END:VCALENDAR
