BEGIN:VCALENDAR
VERSION:2.0
PRODID:SchoolNow
CALSCALE:GREGORIAN
BEGIN:VEVENT
UID:ddfff3aa-28fa-11eb-85d5-12ca6f7626fd
DTSTAMP:20210221T182311Z
SUMMARY:Treasurer's Review Mtg - May 2021
URL;VALUE=URI:https://www.lakestcharles.org/calendar/2498597/treasurers-rev
 iew-mtg-may-2021
DTSTART:20210519T180000Z
DTEND:20210519T190000Z
END:VEVENT
END:VCALENDAR
