BEGIN:VCALENDAR
VERSION:2.0
PRODID:SchoolNow
CALSCALE:GREGORIAN
BEGIN:VEVENT
UID:d65d3630-28fa-11eb-a7bf-12ca6f7626fd
DTSTAMP:20210221T182052Z
SUMMARY:Treasurer's Review Mtg - Apr. 2021
URL;VALUE=URI:https://www.lakestcharles.org/calendar/2498596/treasurers-rev
 iew-mtg-apr-2021
DTSTART:20210421T180000Z
DTEND:20210421T190000Z
END:VEVENT
END:VCALENDAR
