BEGIN:VCALENDAR
VERSION:2.0
PRODID:SchoolNow
CALSCALE:GREGORIAN
BEGIN:VEVENT
UID:ce6d988e-28fa-11eb-a4ad-12ca6f7626fd
DTSTAMP:20210221T181519Z
SUMMARY:Treasurer's Review Mtg - Mar. 2021
URL;VALUE=URI:https://www.lakestcharles.org/calendar/2498595/treasurers-rev
 iew-mtg-mar-2021
DTSTART:20210317T180000Z
DTEND:20210317T190000Z
END:VEVENT
END:VCALENDAR
