BEGIN:VCALENDAR
VERSION:2.0
PRODID:SchoolNow
CALSCALE:GREGORIAN
BEGIN:VEVENT
UID:c058537e-28fa-11eb-990b-12ca6f7626fd
DTSTAMP:20210221T183705Z
SUMMARY:Treasurer's Review Mtg - Feb. 2021
URL;VALUE=URI:https://www.lakestcharles.org/calendar/2498594/treasurers-rev
 iew-mtg-feb-2021
DTSTART:20210217T190000Z
DTEND:20210217T200000Z
END:VEVENT
END:VCALENDAR
