BEGIN:VCALENDAR
VERSION:2.0
PRODID:SchoolNow
CALSCALE:GREGORIAN
BEGIN:VEVENT
UID:69c07d16-28fa-11eb-a0db-1255ed79d769
DTSTAMP:20210221T183951Z
SUMMARY:Treasurer's Review Mtg - Jan. 2021
URL;VALUE=URI:https://www.lakestcharles.org/calendar/2498591/treasurers-rev
 iew-mtg-jan-2021
DTSTART:20210120T190000Z
DTEND:20210120T200000Z
END:VEVENT
END:VCALENDAR
