BEGIN:VCALENDAR
VERSION:2.0
PRODID:SchoolNow
CALSCALE:GREGORIAN
BEGIN:VEVENT
UID:62facc0c-28fa-11eb-915d-1255ed79d769
DTSTAMP:20210221T184227Z
SUMMARY:Treasurer's Review Mtg - Dec. 2020
URL;VALUE=URI:https://www.lakestcharles.org/calendar/2498590/treasurers-rev
 iew-mtg-dec-2020
DTSTART:20201216T190000Z
DTEND:20201216T200000Z
END:VEVENT
END:VCALENDAR
