BEGIN:VCALENDAR
VERSION:2.0
PRODID:SchoolNow
CALSCALE:GREGORIAN
BEGIN:VEVENT
UID:52f1f6aa-28fa-11eb-9e76-1255ed79d769
DTSTAMP:20210221T184444Z
SUMMARY:Treasurer's Review Mtg - Nov. 2020
URL;VALUE=URI:https://www.lakestcharles.org/calendar/2498589/treasurers-rev
 iew-mtg-nov-2020
DTSTART:20201118T190000Z
DTEND:20201118T200000Z
END:VEVENT
END:VCALENDAR
