BEGIN:VCALENDAR
VERSION:2.0
PRODID:SchoolNow
CALSCALE:GREGORIAN
BEGIN:VEVENT
UID:38b9ecb6-28fa-11eb-a2e9-1255ed79d769
DTSTAMP:20210221T183435Z
SUMMARY:Strategic Planning Committee - Sept. 2021
URL;VALUE=URI:https://www.lakestcharles.org/calendar/2498587/strategic-plan
 ning-committee-sept-2021
DTSTART:20210921T140000Z
DTEND:20210921T150000Z
END:VEVENT
END:VCALENDAR
