BEGIN:VCALENDAR
VERSION:2.0
PRODID:SchoolNow
CALSCALE:GREGORIAN
BEGIN:VEVENT
UID:30a4d040-28fa-11eb-ac02-1255ed79d769
DTSTAMP:20210221T183109Z
SUMMARY:Strategic Planning Committee - Aug. 2021
URL;VALUE=URI:https://www.lakestcharles.org/calendar/2498586/strategic-plan
 ning-committee-aug-2021
DTSTART:20210817T140000Z
DTEND:20210817T150000Z
END:VEVENT
END:VCALENDAR
