BEGIN:VCALENDAR
VERSION:2.0
PRODID:SchoolNow
CALSCALE:GREGORIAN
BEGIN:VEVENT
UID:27f390c6-28fa-11eb-bed6-1255ed79d769
DTSTAMP:20210221T182857Z
SUMMARY:Strategic Planning Committee - Jul. 2021
URL;VALUE=URI:https://www.lakestcharles.org/calendar/2498584/strategic-plan
 ning-committee-jul-2021
DTSTART:20210720T140000Z
DTEND:20210720T150000Z
END:VEVENT
END:VCALENDAR
