BEGIN:VCALENDAR
VERSION:2.0
PRODID:SchoolNow
CALSCALE:GREGORIAN
BEGIN:VEVENT
UID:0a550f04-28fa-11eb-bf61-1255ed79d769
DTSTAMP:20210221T182216Z
SUMMARY:Strategic Planning Committee - May 2021
URL;VALUE=URI:https://www.lakestcharles.org/calendar/2498581/strategic-plan
 ning-committee-may-2021
DTSTART:20210518T140000Z
DTEND:20210518T150000Z
END:VEVENT
END:VCALENDAR
