BEGIN:VCALENDAR
VERSION:2.0
PRODID:SchoolNow
CALSCALE:GREGORIAN
BEGIN:VEVENT
UID:d3ea864c-28f9-11eb-8fbd-1255ed79d769
DTSTAMP:20210221T181426Z
SUMMARY:Strategic Planning Committee - Mar. 2021
URL;VALUE=URI:https://www.lakestcharles.org/calendar/2498574/strategic-plan
 ning-committee-mar-2021
DTSTART:20210316T140000Z
DTEND:20210316T150000Z
END:VEVENT
END:VCALENDAR
