BEGIN:VCALENDAR
VERSION:2.0
PRODID:SchoolNow
CALSCALE:GREGORIAN
BEGIN:VEVENT
UID:cae0eeb0-28f9-11eb-8ce0-1255ed79d769
DTSTAMP:20210221T183807Z
SUMMARY:Strategic Planning Committee - Feb. 2021
URL;VALUE=URI:https://www.lakestcharles.org/calendar/2498572/strategic-plan
 ning-committee-feb-2021
DTSTART:20210216T150000Z
DTEND:20210216T160000Z
END:VEVENT
END:VCALENDAR
