BEGIN:VCALENDAR
VERSION:2.0
PRODID:SchoolNow
CALSCALE:GREGORIAN
BEGIN:VEVENT
UID:d9f2ad3e-28f5-11eb-b688-0acc4f10b35f
DTSTAMP:20210221T184540Z
SUMMARY:Strategic Planning Committee - Nov. 2020
URL;VALUE=URI:https://www.lakestcharles.org/calendar/2498511/strategic-plan
 ning-committee-nov-2020
DTSTART:20201117T150000Z
DTEND:20201117T160000Z
END:VEVENT
END:VCALENDAR
