BEGIN:VCALENDAR
VERSION:2.0
PRODID:SchoolNow
CALSCALE:GREGORIAN
BEGIN:VEVENT
UID:b8c4fafe-28f5-11eb-8d90-0acc4f10b35f
DTSTAMP:20210221T183617Z
SUMMARY:Grounds/Security Mtg - Oct. 2021
URL;VALUE=URI:https://www.lakestcharles.org/calendar/2498510/grounds-securi
 ty-mtg-oct-2021
DTSTART:20211020T163000Z
DTEND:20211020T173000Z
END:VEVENT
END:VCALENDAR
