BEGIN:VCALENDAR
VERSION:2.0
PRODID:SchoolNow
CALSCALE:GREGORIAN
BEGIN:VEVENT
UID:b0a470f2-28f5-11eb-b23c-0acc4f10b35f
DTSTAMP:20210221T183327Z
SUMMARY:Grounds/Security Mtg - Sept. 2021
URL;VALUE=URI:https://www.lakestcharles.org/calendar/2498509/grounds-securi
 ty-mtg-sept-2021
DTSTART:20210915T163000Z
DTEND:20210915T173000Z
END:VEVENT
END:VCALENDAR
