BEGIN:VCALENDAR
VERSION:2.0
PRODID:SchoolNow
CALSCALE:GREGORIAN
BEGIN:VEVENT
UID:a746d6bc-28f5-11eb-a6bc-0acc4f10b35f
DTSTAMP:20210221T183132Z
SUMMARY:Grounds/Security Mtg - Aug. 2021
URL;VALUE=URI:https://www.lakestcharles.org/calendar/2498508/grounds-securi
 ty-mtg-aug-2021
DTSTART:20210818T163000Z
DTEND:20210818T173000Z
END:VEVENT
END:VCALENDAR
