BEGIN:VCALENDAR
VERSION:2.0
PRODID:SchoolNow
CALSCALE:GREGORIAN
BEGIN:VEVENT
UID:94c4d5de-28f5-11eb-9f2c-0acc4f10b35f
DTSTAMP:20210221T182931Z
SUMMARY:Grounds/Security Mtg - Jul. 2021
URL;VALUE=URI:https://www.lakestcharles.org/calendar/2498506/grounds-securi
 ty-mtg-jul-2021
DTSTART:20210721T163000Z
DTEND:20210721T173000Z
END:VEVENT
END:VCALENDAR
