BEGIN:VCALENDAR
VERSION:2.0
PRODID:SchoolNow
CALSCALE:GREGORIAN
BEGIN:VEVENT
UID:897d3054-28f5-11eb-b1b5-0acc4f10b35f
DTSTAMP:20210221T182500Z
SUMMARY:Grounds/Security Mtg - Jun. 2021
URL;VALUE=URI:https://www.lakestcharles.org/calendar/2498505/grounds-securi
 ty-mtg-jun-2021
DTSTART:20210616T163000Z
DTEND:20210616T173000Z
END:VEVENT
END:VCALENDAR
