BEGIN:VCALENDAR
VERSION:2.0
PRODID:SchoolNow
CALSCALE:GREGORIAN
BEGIN:VEVENT
UID:81788fca-28f5-11eb-a2fb-0acc4f10b35f
DTSTAMP:20210221T182244Z
SUMMARY:Grounds/Security Mtg - May 2021
URL;VALUE=URI:https://www.lakestcharles.org/calendar/2498504/grounds-securi
 ty-mtg-may-2021
DTSTART:20210519T163000Z
DTEND:20210519T173000Z
END:VEVENT
END:VCALENDAR
