BEGIN:VCALENDAR
VERSION:2.0
PRODID:SchoolNow
CALSCALE:GREGORIAN
BEGIN:VEVENT
UID:72a86dee-28f5-11eb-a2c8-0acc4f10b35f
DTSTAMP:20210221T181453Z
SUMMARY:Grounds/Security Mtg - Mar. 2021
URL;VALUE=URI:https://www.lakestcharles.org/calendar/2498502/grounds-securi
 ty-mtg-mar-2021
DTSTART:20210317T163000Z
DTEND:20210317T173000Z
END:VEVENT
END:VCALENDAR
