BEGIN:VCALENDAR
VERSION:2.0
PRODID:SchoolNow
CALSCALE:GREGORIAN
BEGIN:VEVENT
UID:6b72db40-28f5-11eb-b703-0acc4f10b35f
DTSTAMP:20210221T183733Z
SUMMARY:Grounds/Security Mtg - Feb. 2021
URL;VALUE=URI:https://www.lakestcharles.org/calendar/2498501/grounds-securi
 ty-mtg-feb-2021
DTSTART:20210217T173000Z
DTEND:20210217T183000Z
END:VEVENT
END:VCALENDAR
