BEGIN:VCALENDAR
VERSION:2.0
PRODID:SchoolNow
CALSCALE:GREGORIAN
BEGIN:VEVENT
UID:6281a534-28f5-11eb-b86c-0acc4f10b35f
DTSTAMP:20210221T184013Z
SUMMARY:Grounds/Security Mtg - Jan. 2021
URL;VALUE=URI:https://www.lakestcharles.org/calendar/2498500/grounds-securi
 ty-mtg-jan-2021
DTSTART:20210120T173000Z
DTEND:20210120T183000Z
END:VEVENT
END:VCALENDAR
