BEGIN:VCALENDAR
VERSION:2.0
PRODID:SchoolNow
CALSCALE:GREGORIAN
BEGIN:VEVENT
UID:57b71b8e-28f5-11eb-9d33-0acc4f10b35f
DTSTAMP:20210221T184247Z
SUMMARY:Grounds/Security Mtg - Dec. 2020
URL;VALUE=URI:https://www.lakestcharles.org/calendar/2498499/grounds-securi
 ty-mtg-dec-2020
DTSTART:20201216T173000Z
DTEND:20201216T183000Z
END:VEVENT
END:VCALENDAR
