BEGIN:VCALENDAR
VERSION:2.0
PRODID:SchoolNow
CALSCALE:GREGORIAN
BEGIN:VEVENT
UID:4971c100-28f5-11eb-847f-0acc4f10b35f
DTSTAMP:20210221T184513Z
SUMMARY:Grounds/Security Mtg - Nov. 2020
URL;VALUE=URI:https://www.lakestcharles.org/calendar/2498498/grounds-securi
 ty-mtg-nov-2020
DTSTART:20201118T173000Z
DTEND:20201118T183000Z
END:VEVENT
END:VCALENDAR
