BEGIN:VCALENDAR
VERSION:2.0
PRODID:SchoolNow
CALSCALE:GREGORIAN
BEGIN:VEVENT
UID:cdf0ccca-08c8-11eb-a8de-0a4ec66d7937
DTSTAMP:20210910T162331Z
SUMMARY:CDD Board Meeting - Sept. 2021
URL;VALUE=URI:https://www.lakestcharles.org/calendar/2426290/cdd-board-meet
 ing-sept-2021
DTSTART:20210914T230000Z
DTEND:20210915T000000Z
ATTACH;FILENAME=2021-09-14 Supervisor Packet.pdf;FMTTYPE=application/pdf:ht
 tps://campussuite-storage.s3.amazonaws.com/prod/1558814/4c63d158-ac98-11e9
 -859c-0af81b81c350/2313058/b1343954-1188-11ec-8b34-02d6f1f148e5/file/2021-
 09-14 Supervisor Packet.pdf
ATTACH;FILENAME=2021-09-14 Agenda.pdf;FMTTYPE=application/pdf:https://campu
 ssuite-storage.s3.amazonaws.com/prod/1558814/4c63d158-ac98-11e9-859c-0af81
 b81c350/2313062/d6b82050-1188-11ec-b081-0aacf78328df/file/2021-09-14 Agend
 a.pdf
ATTACH;FILENAME=2021-08-03 BOS Meeting Minutes.pdf;FMTTYPE=application/pdf:
 https://campussuite-storage.s3.amazonaws.com/prod/1558814/4c63d158-ac98-11
 e9-859c-0af81b81c350/2313061/d6b81a56-1188-11ec-b572-0aacf78328df/file/202
 1-08-03 BOS Meeting Minutes.pdf
ATTACH;FILENAME=2021-04 Adoption of FY21-22 Budget & Assessment Roll 09-14-
 2021.pdf;FMTTYPE=application/pdf:https://campussuite-storage.s3.amazonaws.
 com/prod/1558814/4c63d158-ac98-11e9-859c-0af81b81c350/2313065/f47ce486-118
 8-11ec-bc57-02ee258b3337/file/2021-04 Adoption of FY21-22 Budget & Assessm
 ent Roll 09-14-2021.pdf
END:VEVENT
END:VCALENDAR
