BEGIN:VCALENDAR
VERSION:2.0
PRODID:SchoolNow
CALSCALE:GREGORIAN
BEGIN:VEVENT
UID:bffb2ff2-08c8-11eb-9bd8-0a4ec66d7937
DTSTAMP:20210728T224630Z
SUMMARY:CDD Board Meeting - Aug. 2021
URL;VALUE=URI:https://www.lakestcharles.org/calendar/2426289/cdd-board-meet
 ing-aug-2021
DTSTART:20210803T230000Z
DTEND:20210804T000000Z
ATTACH;FILENAME=2021-08-03 Supervisor Packet.pdf;FMTTYPE=application/pdf:ht
 tps://campussuite-storage.s3.amazonaws.com/prod/1558814/4c63d158-ac98-11e9
 -859c-0af81b81c350/2296172/6b5cecf0-eff5-11eb-9f93-0ee70566db41/file/2021-
 08-03 Supervisor Packet.pdf
ATTACH;FILENAME=2021-08-03 Agenda.pdf;FMTTYPE=application/pdf:https://campu
 ssuite-storage.s3.amazonaws.com/prod/1558814/4c63d158-ac98-11e9-859c-0af81
 b81c350/2296174/86b3da68-eff5-11eb-ae0b-0ee70566db41/file/2021-08-03 Agend
 a.pdf
ATTACH;FILENAME=2021-07-13 BOS Meeting Minutes.pdf;FMTTYPE=application/pdf:
 https://campussuite-storage.s3.amazonaws.com/prod/1558814/4c63d158-ac98-11
 e9-859c-0af81b81c350/2296173/86b3d1ee-eff5-11eb-9778-0ee70566db41/file/202
 1-07-13 BOS Meeting Minutes.pdf
ATTACH;FILENAME=2021-03 Amendment to FY20-21 Adopted Budget.pdf;FMTTYPE=app
 lication/pdf:https://campussuite-storage.s3.amazonaws.com/prod/1558814/4c6
 3d158-ac98-11e9-859c-0af81b81c350/2296175/9d12259e-eff5-11eb-bdab-0ee70566
 db41/file/2021-03 Amendment to FY20-21 Adopted Budget.pdf
END:VEVENT
END:VCALENDAR
