BEGIN:VCALENDAR
VERSION:2.0
PRODID:SchoolNow
CALSCALE:GREGORIAN
BEGIN:VEVENT
UID:b3e89c90-08c8-11eb-9d09-0a4ec66d7937
DTSTAMP:20210713T133211Z
SUMMARY:CDD Board Meeting - Jul. 2021
URL;VALUE=URI:https://www.lakestcharles.org/calendar/2426288/cdd-board-meet
 ing-jul-2021
DTSTART:20210713T230000Z
DTEND:20210714T000000Z
ATTACH;FILENAME=2021-07-13 Supervisor Packet.pdf;FMTTYPE=application/pdf:ht
 tps://campussuite-storage.s3.amazonaws.com/prod/1558814/4c63d158-ac98-11e9
 -859c-0af81b81c350/2290572/9773c14c-e3de-11eb-ba58-0e29a09e9697/file/2021-
 07-13 Supervisor Packet.pdf
ATTACH;FILENAME=2021-07-13 Agenda.pdf;FMTTYPE=application/pdf:https://campu
 ssuite-storage.s3.amazonaws.com/prod/1558814/4c63d158-ac98-11e9-859c-0af81
 b81c350/2290574/afafdd04-e3de-11eb-848a-0e29a09e9697/file/2021-07-13 Agend
 a.pdf
ATTACH;FILENAME=2021-06-01 BOS Meeting Minutes.pdf;FMTTYPE=application/pdf:
 https://campussuite-storage.s3.amazonaws.com/prod/1558814/4c63d158-ac98-11
 e9-859c-0af81b81c350/2290573/afafd746-e3de-11eb-ad17-0e29a09e9697/file/202
 1-06-01 BOS Meeting Minutes.pdf
END:VEVENT
END:VCALENDAR
