BEGIN:VCALENDAR
VERSION:2.0
PRODID:SchoolNow
CALSCALE:GREGORIAN
BEGIN:VEVENT
UID:874471c8-08c8-11eb-b15a-0a4ec66d7937
DTSTAMP:20210402T172324Z
SUMMARY:CDD Board Meeting - Apr. 2021
URL;VALUE=URI:https://www.lakestcharles.org/calendar/2426285/cdd-board-meet
 ing-apr-2021
DTSTART:20210406T230000Z
DTEND:20210407T000000Z
ATTACH;FILENAME=2021-04-06 Supervisor Packet.pdf;FMTTYPE=application/pdf:ht
 tps://campussuite-storage.s3.amazonaws.com/prod/1558814/4c63d158-ac98-11e9
 -859c-0af81b81c350/2248289/0e253f52-93d8-11eb-a887-0a50ccea9a7f/file/2021-
 04-06 Supervisor Packet.pdf
ATTACH;FILENAME=2021-04-06 Agenda.pdf;FMTTYPE=application/pdf:https://campu
 ssuite-storage.s3.amazonaws.com/prod/1558814/4c63d158-ac98-11e9-859c-0af81
 b81c350/2248288/fd745328-93d7-11eb-b87e-0e9a3bbf40d1/file/2021-04-06 Agend
 a.pdf
ATTACH;FILENAME=2021-03-02 BOS Meeting Minutes.pdf;FMTTYPE=application/pdf:
 https://campussuite-storage.s3.amazonaws.com/prod/1558814/4c63d158-ac98-11
 e9-859c-0af81b81c350/2248287/fd7436d6-93d7-11eb-921a-0e9a3bbf40d1/file/202
 1-03-02 BOS Meeting Minutes.pdf
END:VEVENT
END:VCALENDAR
