BEGIN:VCALENDAR
VERSION:2.0
PRODID:SchoolNow
CALSCALE:GREGORIAN
BEGIN:VEVENT
UID:7b0dae56-08c8-11eb-bf8a-0a4ec66d7937
DTSTAMP:20210226T040115Z
SUMMARY:CDD Board Meeting - Mar. 2021
URL;VALUE=URI:https://www.lakestcharles.org/calendar/2426284/cdd-board-meet
 ing-mar-2021
DTSTART:20210303T000000Z
DTEND:20210303T010000Z
ATTACH;FILENAME=2021-03-02 Agenda.pdf;FMTTYPE=application/pdf:https://campu
 ssuite-storage.s3.amazonaws.com/prod/1558814/4c63d158-ac98-11e9-859c-0af81
 b81c350/2232014/15a0d384-77e7-11eb-8230-0205c1067d0b/file/2021-03-02 Agend
 a.pdf
ATTACH;FILENAME=2021-02-02 BOS Meeting Minutes.pdf;FMTTYPE=application/pdf:
 https://campussuite-storage.s3.amazonaws.com/prod/1558814/4c63d158-ac98-11
 e9-859c-0af81b81c350/2232013/15a0ce20-77e7-11eb-a484-0205c1067d0b/file/202
 1-02-02 BOS Meeting Minutes.pdf
ATTACH;FILENAME=2021-03-02 Supervisor Packet.pdf;FMTTYPE=application/pdf:ht
 tps://campussuite-storage.s3.amazonaws.com/prod/1558814/4c63d158-ac98-11e9
 -859c-0af81b81c350/2232015/3ab84b3e-77e7-11eb-8ae1-0eb65a254485/file/2021-
 03-02 Supervisor Packet.pdf
END:VEVENT
END:VCALENDAR
