BEGIN:VCALENDAR
VERSION:2.0
PRODID:SchoolNow
CALSCALE:GREGORIAN
BEGIN:VEVENT
UID:64e51754-08c8-11eb-a20f-0a4ec66d7937
DTSTAMP:20210221T183854Z
SUMMARY:CDD Board Meeting - Feb. 2021
URL;VALUE=URI:https://www.lakestcharles.org/calendar/2426283/cdd-board-meet
 ing-feb-2021
DTSTART:20210203T000000Z
DTEND:20210203T010000Z
ATTACH;FILENAME=2021-02-02 Supervisor Packet.pdf;FMTTYPE=application/pdf:ht
 tps://campussuite-storage.s3.amazonaws.com/prod/1558814/4c63d158-ac98-11e9
 -859c-0af81b81c350/2220655/9aec8c36-61c6-11eb-94cb-0e4d770b3f45/file/2021-
 02-02 Supervisor Packet.pdf
ATTACH;FILENAME=2021-02-02 Agenda.pdf;FMTTYPE=application/pdf:https://campu
 ssuite-storage.s3.amazonaws.com/prod/1558814/4c63d158-ac98-11e9-859c-0af81
 b81c350/2220657/bf3148fc-61c6-11eb-8300-0e4d770b3f45/file/2021-02-02 Agend
 a.pdf
ATTACH;FILENAME=2021-01-05 BOS Meeting Minutes.pdf;FMTTYPE=application/pdf:
 https://campussuite-storage.s3.amazonaws.com/prod/1558814/4c63d158-ac98-11
 e9-859c-0af81b81c350/2220656/bf31426c-61c6-11eb-aadb-0e4d770b3f45/file/202
 1-01-05 BOS Meeting Minutes.pdf
END:VEVENT
END:VCALENDAR
