BEGIN:VCALENDAR
VERSION:2.0
PRODID:SchoolNow
CALSCALE:GREGORIAN
BEGIN:VEVENT
UID:5862475e-08c8-11eb-8c6e-0a4ec66d7937
DTSTAMP:20210221T184121Z
SUMMARY:CDD Board Meeting - Jan. 2021
URL;VALUE=URI:https://www.lakestcharles.org/calendar/2426282/cdd-board-meet
 ing-jan-2021
DTSTART:20210106T000000Z
DTEND:20210106T010000Z
ATTACH;FILENAME=2021-01-05 Supervisor Packet.pdf;FMTTYPE=application/pdf:ht
 tps://campussuite-storage.s3.amazonaws.com/prod/1558814/4c63d158-ac98-11e9
 -859c-0af81b81c350/2207636/1825337e-4a0c-11eb-a9f6-02f0ca49b24b/file/2021-
 01-05 Supervisor Packet.pdf
ATTACH;FILENAME=2021-01-05 Agenda.pdf;FMTTYPE=application/pdf:https://campu
 ssuite-storage.s3.amazonaws.com/prod/1558814/4c63d158-ac98-11e9-859c-0af81
 b81c350/2207638/137a9818-4a0d-11eb-977a-02f0ca49b24b/file/2021-01-05 Agend
 a.pdf
ATTACH;FILENAME=2020-12-01 BOS Meeting Minutes.pdf;FMTTYPE=application/pdf:
 https://campussuite-storage.s3.amazonaws.com/prod/1558814/4c63d158-ac98-11
 e9-859c-0af81b81c350/2207637/137a921e-4a0d-11eb-b19f-02f0ca49b24b/file/202
 0-12-01 BOS Meeting Minutes.pdf
END:VEVENT
END:VCALENDAR
