BEGIN:VCALENDAR
VERSION:2.0
PRODID:SchoolNow
CALSCALE:GREGORIAN
BEGIN:VEVENT
UID:42fd55de-08c8-11eb-836b-0a4ec66d7937
DTSTAMP:20210221T184351Z
SUMMARY:CDD Board Meeting - Dec. 2020
URL;VALUE=URI:https://www.lakestcharles.org/calendar/2426281/cdd-board-meet
 ing-dec-2020
DTSTART:20201202T000000Z
DTEND:20201202T010000Z
ATTACH;FILENAME=2020-12-01 Supervisor Packet.pdf;FMTTYPE=application/pdf:ht
 tps://campussuite-storage.s3.amazonaws.com/prod/1558814/4c63d158-ac98-11e9
 -859c-0af81b81c350/2188127/079c4b18-3298-11eb-880b-0aac3a7b37d3/file/2020-
 12-01 Supervisor Packet.pdf
END:VEVENT
END:VCALENDAR
