BEGIN:VCALENDAR
VERSION:2.0
PRODID:SchoolNow
CALSCALE:GREGORIAN
BEGIN:VEVENT
UID:3711e8ac-08c8-11eb-b1b7-0a4ec66d7937
DTSTAMP:20210221T184604Z
SUMMARY:CDD Board Meeting - Nov. 2020
URL;VALUE=URI:https://www.lakestcharles.org/calendar/2426280/cdd-board-meet
 ing-nov-2020
DTSTART:20201104T000000Z
DTEND:20201104T010000Z
ATTACH;FILENAME=2020-11-03 Supervisor Packet.pdf;FMTTYPE=application/pdf:ht
 tps://campussuite-storage.s3.amazonaws.com/prod/1558814/4c63d158-ac98-11e9
 -859c-0af81b81c350/2178621/11232766-1adc-11eb-ab2e-0ab1a4f2f743/file/2020-
 11-03 Supervisor Packet.pdf
ATTACH;FILENAME=2021-01 Amendment to FY20-21 Adopted Budget.pdf;FMTTYPE=app
 lication/pdf:https://campussuite-storage.s3.amazonaws.com/prod/1558814/4c6
 3d158-ac98-11e9-859c-0af81b81c350/2178622/23660eac-1adc-11eb-8ce3-0ab1a4f2
 f743/file/2021-01 Amendment to FY20-21 Adopted Budget.pdf
ATTACH;FILENAME=2020-11-03 Agenda.pdf;FMTTYPE=application/pdf:https://campu
 ssuite-storage.s3.amazonaws.com/prod/1558814/4c63d158-ac98-11e9-859c-0af81
 b81c350/2178623/c5fa1956-1adc-11eb-8e74-128eb78bb901/file/2020-11-03 Agend
 a.pdf
END:VEVENT
END:VCALENDAR
