BEGIN:VCALENDAR
VERSION:2.0
PRODID:SchoolNow
CALSCALE:GREGORIAN
BEGIN:VEVENT
UID:29b79362-08ac-11eb-9fcc-0a53ffd8afeb
DTSTAMP:20210221T184815Z
SUMMARY:CDD Board Meeting - Oct. 2020
URL;VALUE=URI:https://www.lakestcharles.org/calendar/2425314/cdd-board-meet
 ing-oct-2020
DTSTART:20201006T230000Z
DTEND:20201007T000000Z
ATTACH;FILENAME=2020-10-06 Supervisor Packet.pdf;FMTTYPE=application/pdf:ht
 tps://campussuite-storage.s3.amazonaws.com/prod/1558814/4c63d158-ac98-11e9
 -859c-0af81b81c350/2168638/1ceeaa94-08ac-11eb-810e-0a53ffd8afeb/file/2020-
 10-06 Supervisor Packet.pdf
ATTACH;FILENAME=2020-09-01 BOS Meeting Minutes.pdf;FMTTYPE=application/pdf:
 https://campussuite-storage.s3.amazonaws.com/prod/1558814/4c63d158-ac98-11
 e9-859c-0af81b81c350/2168816/f5add376-08c7-11eb-a08e-0a4ec66d7937/file/202
 0-09-01 BOS Meeting Minutes.pdf
ATTACH;FILENAME=2020-10-06 Agenda.pdf;FMTTYPE=application/pdf:https://campu
 ssuite-storage.s3.amazonaws.com/prod/1558814/4c63d158-ac98-11e9-859c-0af81
 b81c350/2168815/e31f37fe-08c7-11eb-a74e-0a4ec66d7937/file/2020-10-06 Agend
 a.pdf
END:VEVENT
END:VCALENDAR
