BEGIN:VCALENDAR
VERSION:2.0
PRODID:SchoolNow
CALSCALE:GREGORIAN
BEGIN:VEVENT
UID:bb2e7e2a-b4d1-11ea-8992-12298a9429db
DTSTAMP:20210221T185954Z
SUMMARY:Swim Lessons for Kids at Community Pool - Jun. 26\, 2020
URL;VALUE=URI:https://www.lakestcharles.org/calendar/2265984/swim-lessons-f
 or-kids-at-community-pool-jun-26-2020
DTSTART:20200626T140000Z
DTEND:20200626T164500Z
END:VEVENT
END:VCALENDAR
