BEGIN:VCALENDAR
VERSION:2.0
PRODID:SchoolNow
CALSCALE:GREGORIAN
BEGIN:VEVENT
UID:a2038abc-b4d1-11ea-9cb9-0af9385dfea1
DTSTAMP:20210221T190118Z
SUMMARY:Swim Lessons for Kids at Community Pool - Jun. 24\, 2020
URL;VALUE=URI:https://www.lakestcharles.org/calendar/2265983/swim-lessons-f
 or-kids-at-community-pool-jun-24-2020
DTSTART:20200624T140000Z
DTEND:20200624T164500Z
END:VEVENT
END:VCALENDAR
