BEGIN:VCALENDAR
VERSION:2.0
PRODID:SchoolNow
CALSCALE:GREGORIAN
BEGIN:VEVENT
UID:95da217e-b4d1-11ea-ab40-0af9385dfea1
DTSTAMP:20210221T190037Z
SUMMARY:Swim Lessons for Kids at Community Pool - Jun. 25\, 2020
URL;VALUE=URI:https://www.lakestcharles.org/calendar/2265982/swim-lessons-f
 or-kids-at-community-pool-jun-25-2020
DTSTART:20200625T140000Z
DTEND:20200625T164500Z
END:VEVENT
END:VCALENDAR
