BEGIN:VCALENDAR
VERSION:2.0
PRODID:SchoolNow
CALSCALE:GREGORIAN
BEGIN:VEVENT
UID:8a6cf014-b4d1-11ea-85d8-0af9385dfea1
DTSTAMP:20210221T190154Z
SUMMARY:Swim Lessons for Kids at Community Pool - Jun. 23\, 2020
URL;VALUE=URI:https://www.lakestcharles.org/calendar/2265981/swim-lessons-f
 or-kids-at-community-pool-jun-23-2020
DTSTART:20200623T140000Z
DTEND:20200623T164500Z
END:VEVENT
END:VCALENDAR
