BEGIN:VCALENDAR
VERSION:2.0
PRODID:SchoolNow
CALSCALE:GREGORIAN
BEGIN:VEVENT
UID:0ebb93b8-b4d0-11ea-a9cb-0aa40dbb5e4d
DTSTAMP:20210221T190230Z
SUMMARY:Swim Lessons for Kids at Community Pool - Jun. 22\, 2020
URL;VALUE=URI:https://www.lakestcharles.org/calendar/2265980/swim-lessons-f
 or-kids-at-community-pool-jun-22-2020
DTSTART:20200622T140000Z
DTEND:20200622T164500Z
END:VEVENT
END:VCALENDAR
