BEGIN:VCALENDAR
VERSION:2.0
PRODID:SchoolNow
CALSCALE:GREGORIAN
BEGIN:VEVENT
UID:22a40eba-8324-11ea-85b6-1230a1dc505f
DTSTAMP:20210221T191149Z
SUMMARY:CDD Board Meeting - Apr. 2020
URL;VALUE=URI:https://www.lakestcharles.org/calendar/2239528/cdd-board-meet
 ing-apr-2020
DTSTART:20200421T230000Z
DTEND:20200422T003000Z
END:VEVENT
END:VCALENDAR
